BEGIN:VCALENDAR
VERSION:2.0
PRODID:SchoolNow
CALSCALE:GREGORIAN
BEGIN:VEVENT
UID:a27c91c6-bb4e-11f0-8422-0a58a9feac02
DTSTAMP:20251107T214832Z
SUMMARY:SECONDARY MARKING PERIOD (11/7)
URL;VALUE=URI:https://www.albanyschools.org/schools/aic/calendar/8781393/se
 condary-marking-period
DTSTART;VALUE=DATE:20251107
DTEND;VALUE=DATE:20251108
END:VEVENT
END:VCALENDAR
