BEGIN:VCALENDAR
VERSION:2.0
PRODID:SchoolNow
CALSCALE:GREGORIAN
BEGIN:VEVENT
UID:09cc6812-c0bb-11f0-8529-0a58a9feac02
DTSTAMP:20251113T180320Z
SUMMARY:ATHLETICS: registration ends for modified winter sports
URL;VALUE=URI:https://www.albanyschools.org/schools/aic/calendar/8794043/at
 hletics-registration-ends-for-high-school-winter-sports-clone
DTSTART;VALUE=DATE:20251121
DTEND;VALUE=DATE:20251122
END:VEVENT
END:VCALENDAR
