BEGIN:VCALENDAR
VERSION:2.0
PRODID:SchoolNow
CALSCALE:GREGORIAN
BEGIN:VEVENT
UID:1aace7a6-c0bb-11f0-873f-0a58a9feac02
DTSTAMP:20251113T180348Z
SUMMARY:ATHLETICS: registration ends for high school winter sports
URL;VALUE=URI:https://www.albanyschools.org/schools/aic/calendar/8794050/at
 hletics-registration-ends-for-high-school-winter-sports
DTSTART;VALUE=DATE:20251114
DTEND;VALUE=DATE:20251115
END:VEVENT
END:VCALENDAR
