BEGIN:VCALENDAR
VERSION:2.0
PRODID:SchoolNow
CALSCALE:GREGORIAN
BEGIN:VEVENT
UID:707773c0-e5a2-11f0-976d-0a58a9feac02
DTSTAMP:20251230T171028Z
SUMMARY:PTA meeting
URL;VALUE=URI:https://www.albanyschools.org/schools/aic/calendar/8827739/pt
 a-meeting
DTSTART:20260121T230000Z
DTEND:20260122T000000Z
END:VEVENT
END:VCALENDAR
