BEGIN:VCALENDAR
VERSION:2.0
PRODID:SchoolNow
CALSCALE:GREGORIAN
BEGIN:VEVENT
UID:9b683740-e5a2-11f0-8b8b-0afff0dc14c1
DTSTAMP:20251230T171140Z
SUMMARY:PTA meeting
URL;VALUE=URI:https://www.albanyschools.org/schools/aic/calendar/8827741/pt
 a-meeting
DTSTART:20260224T230000Z
DTEND:20260225T000000Z
END:VEVENT
END:VCALENDAR
