BEGIN:VCALENDAR
VERSION:2.0
PRODID:SchoolNow
CALSCALE:GREGORIAN
BEGIN:VEVENT
UID:e20dfb30-e5a2-11f0-abe3-02b8c576415d
DTSTAMP:20251230T171338Z
SUMMARY:Writing celebration: Student gallery walk
URL;VALUE=URI:https://www.albanyschools.org/schools/aic/calendar/8827743/wr
 iting-celebration-student-gallery-walk
DTSTART:20260227T184500Z
DTEND:20260227T194500Z
END:VEVENT
END:VCALENDAR
