BEGIN:VCALENDAR
VERSION:2.0
PRODID:SchoolNow
CALSCALE:GREGORIAN
BEGIN:VEVENT
UID:1a1a6ae0-e5a3-11f0-b7b6-02b8c576415d
DTSTAMP:20251230T171512Z
SUMMARY:PTA meeting
URL;VALUE=URI:https://www.albanyschools.org/schools/aic/calendar/8827748/pt
 a-meeting
DTSTART:20260323T220000Z
DTEND:20260323T230000Z
END:VEVENT
END:VCALENDAR
