BEGIN:VCALENDAR
VERSION:2.0
PRODID:SchoolNow
CALSCALE:GREGORIAN
BEGIN:VEVENT
UID:3fdf1f1e-e5a3-11f0-abb7-0affef73b657
DTSTAMP:20251230T171616Z
SUMMARY:STEM Night
URL;VALUE=URI:https://www.albanyschools.org/schools/aic/calendar/8827750/st
 em-night
DTSTART:20260327T203000Z
DTEND:20260327T213000Z
END:VEVENT
END:VCALENDAR
