BEGIN:VCALENDAR
VERSION:2.0
PRODID:SchoolNow
CALSCALE:GREGORIAN
BEGIN:VEVENT
UID:48c42aca-e5a3-11f0-805b-0ed2e729a333
DTSTAMP:20251230T171631Z
SUMMARY:Parent-teacher conferences
URL;VALUE=URI:https://www.albanyschools.org/schools/aic/calendar/8827751/pa
 rent-teacher-conferences
DTSTART:20260205T210000Z
DTEND:20260206T000000Z
END:VEVENT
END:VCALENDAR
