BEGIN:VCALENDAR
VERSION:2.0
PRODID:SchoolNow
CALSCALE:GREGORIAN
BEGIN:VEVENT
UID:fdd1ff86-f6d4-11f0-a227-023580c3c903
DTSTAMP:20260121T142712Z
SUMMARY:Middle school early dismissal
URL;VALUE=URI:https://www.albanyschools.org/schools/aic/calendar/8838640/1-
 p-m-dismissal-for-staff-pd
DTSTART:20260225T173000Z
DTEND:20260225T183000Z
END:VEVENT
END:VCALENDAR
