BEGIN:VCALENDAR
VERSION:2.0
PRODID:SchoolNow
CALSCALE:GREGORIAN
BEGIN:VEVENT
UID:040f0a64-be07-11e9-9622-0a1f5f0d2de0
DTSTAMP:20190813T201455Z
SUMMARY:Free Comic Book Day
URL;VALUE=URI:https://www.albanyschools.org/schools/albanyhigh/calendar/206
 3066/free-comic-book-day
DTSTART;VALUE=DATE:20200504
DTEND;VALUE=DATE:20200505
END:VEVENT
END:VCALENDAR
