BEGIN:VCALENDAR
VERSION:2.0
PRODID:SchoolNow
CALSCALE:GREGORIAN
BEGIN:VEVENT
UID:040f10ae-be07-11e9-b30e-0a1f5f0d2de0
DTSTAMP:20190829T184750Z
SUMMARY:SAT exam
URL;VALUE=URI:https://www.albanyschools.org/schools/albanyhigh/calendar/206
 3067/sat-exam
DTSTART:20200503T025900Z
DTEND:20200503T035900Z
END:VEVENT
END:VCALENDAR
