BEGIN:VCALENDAR
VERSION:2.0
PRODID:SchoolNow
CALSCALE:GREGORIAN
BEGIN:VEVENT
UID:7e1b8970-a765-11ea-adff-0a731aa31bb1
DTSTAMP:20200605T194813Z
SUMMARY:Best Buddies Virtual Friendship Walk
URL;VALUE=URI:https://www.albanyschools.org/schools/albanyhigh/calendar/225
 7064/best-buddies-virtual-friendship-walk
DTSTART:20200620T040000Z
DTEND:20200620T160000Z
END:VEVENT
END:VCALENDAR
