BEGIN:VCALENDAR
VERSION:2.0
PRODID:SchoolNow
CALSCALE:GREGORIAN
BEGIN:VEVENT
UID:6eaa8d1a-a76a-11ea-8236-0a9d4b120629
DTSTAMP:20200605T202335Z
SUMMARY:Virtual senior prom
URL;VALUE=URI:https://www.albanyschools.org/schools/albanyhigh/calendar/225
 7065/virtual-senior-prom
DTSTART:20200613T230000Z
DTEND:20200614T030000Z
END:VEVENT
END:VCALENDAR
