BEGIN:VCALENDAR
VERSION:2.0
PRODID:SchoolNow
CALSCALE:GREGORIAN
BEGIN:VEVENT
UID:a8333866-a76a-11ea-a70a-0a9d4b120629
DTSTAMP:20200605T202511Z
SUMMARY:Virtual awards ceremony
URL;VALUE=URI:https://www.albanyschools.org/schools/albanyhigh/calendar/225
 7066/virtual-awards-ceremony
DTSTART:20200617T220000Z
DTEND:20200617T230000Z
END:VEVENT
END:VCALENDAR
