BEGIN:VCALENDAR
VERSION:2.0
PRODID:SchoolNow
CALSCALE:GREGORIAN
BEGIN:VEVENT
UID:2c40bb48-f2ce-11ea-91c0-0ac4633e0e0b
DTSTAMP:20200909T201824Z
SUMMARY:Grade 9 Academy Orientation
URL;VALUE=URI:https://www.albanyschools.org/schools/albanyhigh/calendar/234
 3659/grade-9-academy-orientation
DTSTART:20200910T160000Z
DTEND:20200910T164000Z
END:VEVENT
END:VCALENDAR
