BEGIN:VCALENDAR
VERSION:2.0
PRODID:SchoolNow
CALSCALE:GREGORIAN
BEGIN:VEVENT
UID:f5db251a-f2ce-11ea-970f-12b4d1547cc3
DTSTAMP:20200909T201945Z
SUMMARY:Grade 10 Academy Orientation
URL;VALUE=URI:https://www.albanyschools.org/schools/albanyhigh/calendar/234
 3661/grade-10-academy-orientation
DTSTART:20200910T164500Z
DTEND:20200910T172500Z
END:VEVENT
END:VCALENDAR
