BEGIN:VCALENDAR
VERSION:2.0
PRODID:SchoolNow
CALSCALE:GREGORIAN
BEGIN:VEVENT
UID:8174a358-f2cf-11ea-9ab1-1205aba25cef
DTSTAMP:20200909T202014Z
SUMMARY:Grade 11 Academy Orientation
URL;VALUE=URI:https://www.albanyschools.org/schools/albanyhigh/calendar/234
 3662/grade-11-academy-orientation
DTSTART:20200910T173000Z
DTEND:20200910T181000Z
END:VEVENT
END:VCALENDAR
