BEGIN:VCALENDAR
VERSION:2.0
PRODID:SchoolNow
CALSCALE:GREGORIAN
BEGIN:VEVENT
UID:55c8b2ca-f2d0-11ea-a104-12b4d1547cc3
DTSTAMP:20200910T172619Z
SUMMARY:Grade 12 Academy Orientation
URL;VALUE=URI:https://www.albanyschools.org/schools/albanyhigh/calendar/234
 3669/grade-12-academy-orientation
DTSTART:20200910T181500Z
DTEND:20200910T185500Z
END:VEVENT
END:VCALENDAR
