BEGIN:VCALENDAR
VERSION:2.0
PRODID:SchoolNow
CALSCALE:GREGORIAN
BEGIN:VEVENT
UID:3fc8bd34-f907-11ea-b6a1-0acfccb1173f
DTSTAMP:20200929T144235Z
SUMMARY:Athletics: Meet the Coaches Night (mandatory)
URL;VALUE=URI:https://www.albanyschools.org/schools/albanyhigh/calendar/236
 2040/meet-the-coaches-night
DTSTART:20201001T213000Z
DTEND:20201001T230000Z
END:VEVENT
END:VCALENDAR
