BEGIN:VCALENDAR
VERSION:2.0
PRODID:SchoolNow
CALSCALE:GREGORIAN
BEGIN:VEVENT
UID:2ee893ae-0744-11eb-98e0-0ab91c054fc5
DTSTAMP:20201005T195149Z
SUMMARY:Girls' and Boys' Cross Country Senior Night
URL;VALUE=URI:https://www.albanyschools.org/schools/albanyhigh/calendar/241
 8118/girls-and-boys-cross-country-senior-night
DTSTART:20201007T200000Z
DTEND:20201007T210000Z
END:VEVENT
END:VCALENDAR
