BEGIN:VCALENDAR
VERSION:2.0
PRODID:SchoolNow
CALSCALE:GREGORIAN
BEGIN:VEVENT
UID:5b5280a8-0744-11eb-8c9d-0abad6a89f41
DTSTAMP:20201005T195253Z
SUMMARY:Boys' Soccer Senior Night
URL;VALUE=URI:https://www.albanyschools.org/schools/albanyhigh/calendar/241
 8119/boys-soccer-senior-night
DTSTART:20201006T220000Z
DTEND:20201006T230000Z
END:VEVENT
END:VCALENDAR
