BEGIN:VCALENDAR
VERSION:2.0
PRODID:SchoolNow
CALSCALE:GREGORIAN
BEGIN:VEVENT
UID:74b8fef0-0744-11eb-b7a4-0a61964145c1
DTSTAMP:20201005T195336Z
SUMMARY:Girls' Soccer Senior Night
URL;VALUE=URI:https://www.albanyschools.org/schools/albanyhigh/calendar/241
 8120/girls-soccer-senior-night
DTSTART:20201009T230000Z
DTEND:20201010T000000Z
END:VEVENT
END:VCALENDAR
