BEGIN:VCALENDAR
VERSION:2.0
PRODID:SchoolNow
CALSCALE:GREGORIAN
BEGIN:VEVENT
UID:91e7daaa-0744-11eb-b962-0abad6a89f41
DTSTAMP:20201005T200646Z
SUMMARY:Girls' Swimming Senior Night
URL;VALUE=URI:https://www.albanyschools.org/schools/albanyhigh/calendar/241
 8121/girls-swimming-senior-night
DTSTART:20201022T200000Z
DTEND:20201022T210000Z
END:VEVENT
END:VCALENDAR
