BEGIN:VCALENDAR
VERSION:2.0
PRODID:SchoolNow
CALSCALE:GREGORIAN
BEGIN:VEVENT
UID:6d6a20e6-0746-11eb-b3de-0abad6a89f41
DTSTAMP:20201005T200742Z
SUMMARY:Girls' Tennis Senior Night
URL;VALUE=URI:https://www.albanyschools.org/schools/albanyhigh/calendar/241
 8122/girls-tennis-senior-night
DTSTART:20201023T194500Z
DTEND:20201023T204500Z
END:VEVENT
END:VCALENDAR
