BEGIN:VCALENDAR
VERSION:2.0
PRODID:SchoolNow
CALSCALE:GREGORIAN
BEGIN:VEVENT
UID:2e0b875c-074e-11eb-ae2d-0ab91c054fc5
DTSTAMP:20201005T210312Z
SUMMARY:Blood drive
URL;VALUE=URI:https://www.albanyschools.org/schools/albanyhigh/calendar/241
 8220/blood-drive
DTSTART:20201008T120000Z
DTEND:20201008T181500Z
END:VEVENT
END:VCALENDAR
