BEGIN:VCALENDAR
VERSION:2.0
PRODID:SchoolNow
CALSCALE:GREGORIAN
BEGIN:VEVENT
UID:669c6a82-08cf-11eb-a632-12d0902b0d47
DTSTAMP:20201007T190159Z
SUMMARY:College Financial Aid Night
URL;VALUE=URI:https://www.albanyschools.org/schools/albanyhigh/calendar/242
 6302/college-financial-aid-night
DTSTART:20201008T223000Z
DTEND:20201008T233000Z
END:VEVENT
END:VCALENDAR
