BEGIN:VCALENDAR
VERSION:2.0
PRODID:SchoolNow
CALSCALE:GREGORIAN
BEGIN:VEVENT
UID:13311574-08e2-11eb-af8b-12b0425fca75
DTSTAMP:20201007T211424Z
SUMMARY:Virtual Open House
URL;VALUE=URI:https://www.albanyschools.org/schools/albanyhigh/calendar/242
 6567/virtual-open-house
DTSTART:20201014T220000Z
DTEND:20201015T003000Z
END:VEVENT
END:VCALENDAR
