BEGIN:VCALENDAR
VERSION:2.0
PRODID:SchoolNow
CALSCALE:GREGORIAN
BEGIN:VEVENT
UID:702c0678-096c-11eb-9897-1269766c8711
DTSTAMP:20201008T134553Z
SUMMARY:October PTSA meeting (virtual)
URL;VALUE=URI:https://www.albanyschools.org/schools/albanyhigh/calendar/242
 9734/october-ptsa-meeting-virtual
DTSTART:20201020T213000Z
DTEND:20201020T223000Z
END:VEVENT
END:VCALENDAR
