BEGIN:VCALENDAR
VERSION:2.0
PRODID:SchoolNow
CALSCALE:GREGORIAN
BEGIN:VEVENT
UID:d87c0278-096c-11eb-b152-1269766c8711
DTSTAMP:20201117T203941Z
SUMMARY:November PTSA meeting (virtual)
URL;VALUE=URI:https://www.albanyschools.org/schools/albanyhigh/calendar/242
 9736/november-ptsa-meeting-virtual
DTSTART:20201117T223000Z
DTEND:20201117T233000Z
END:VEVENT
END:VCALENDAR
