BEGIN:VCALENDAR
VERSION:2.0
PRODID:SchoolNow
CALSCALE:GREGORIAN
BEGIN:VEVENT
UID:292bc168-096d-11eb-89fe-120f841e7405
DTSTAMP:20201118T171030Z
SUMMARY:December PTSA meeting (virtual)
URL;VALUE=URI:https://www.albanyschools.org/schools/albanyhigh/calendar/242
 9738/december-ptsa-meeting-virtual
DTSTART:20201215T223000Z
DTEND:20201215T233000Z
END:VEVENT
END:VCALENDAR
