BEGIN:VCALENDAR
VERSION:2.0
PRODID:SchoolNow
CALSCALE:GREGORIAN
BEGIN:VEVENT
UID:5a90f1d8-096d-11eb-87ee-120f841e7405
DTSTAMP:20201118T171101Z
SUMMARY:January PTSA meeting (virtual)
URL;VALUE=URI:https://www.albanyschools.org/schools/albanyhigh/calendar/242
 9740/january-ptsa-meeting-virtual
DTSTART:20210119T223000Z
DTEND:20210119T233000Z
END:VEVENT
END:VCALENDAR
