BEGIN:VCALENDAR
VERSION:2.0
PRODID:SchoolNow
CALSCALE:GREGORIAN
BEGIN:VEVENT
UID:fa0c6972-096d-11eb-ac03-12923cfa83cd
DTSTAMP:20210416T210005Z
SUMMARY:April PTSA meeting (virtual)
URL;VALUE=URI:https://www.albanyschools.org/schools/albanyhigh/calendar/242
 9748/april-ptsa-meeting-virtual
DTSTART:20210420T213000Z
DTEND:20210420T223000Z
END:VEVENT
END:VCALENDAR
