BEGIN:VCALENDAR
VERSION:2.0
PRODID:SchoolNow
CALSCALE:GREGORIAN
BEGIN:VEVENT
UID:5db54822-096e-11eb-92dd-0a60ed2dc1fd
DTSTAMP:20201118T171236Z
SUMMARY:May PTSA meeting (virtual)
URL;VALUE=URI:https://www.albanyschools.org/schools/albanyhigh/calendar/242
 9751/may-ptsa-meeting-virtual
DTSTART:20210518T213000Z
DTEND:20210518T223000Z
END:VEVENT
END:VCALENDAR
