BEGIN:VCALENDAR
VERSION:2.0
PRODID:SchoolNow
CALSCALE:GREGORIAN
BEGIN:VEVENT
UID:17e6962e-096f-11eb-91d7-0a60ed2dc1fd
DTSTAMP:20201118T171318Z
SUMMARY:June PTSA meeting (virtual)
URL;VALUE=URI:https://www.albanyschools.org/schools/albanyhigh/calendar/242
 9753/june-ptsa-meeting-virtual
DTSTART:20210615T213000Z
DTEND:20210615T223000Z
END:VEVENT
END:VCALENDAR
