BEGIN:VCALENDAR
VERSION:2.0
PRODID:SchoolNow
CALSCALE:GREGORIAN
BEGIN:VEVENT
UID:9ffe33dc-0fe6-11eb-b9ad-12fcb27d1b67
DTSTAMP:20201016T193436Z
SUMMARY:Yearbook pictures at school
URL;VALUE=URI:https://www.albanyschools.org/schools/albanyhigh/calendar/247
 2424/yearbook-pictures-at-school
DTSTART:20201102T140000Z
DTEND:20201102T200000Z
END:VEVENT
END:VCALENDAR
