BEGIN:VCALENDAR
VERSION:2.0
PRODID:SchoolNow
CALSCALE:GREGORIAN
BEGIN:VEVENT
UID:b4f8de22-0fe6-11eb-aab9-12fcb27d1b67
DTSTAMP:20201016T193511Z
SUMMARY:Yearbook pictures at school
URL;VALUE=URI:https://www.albanyschools.org/schools/albanyhigh/calendar/247
 2425/yearbook-pictures-at-school-clone
DTSTART:20201103T140000Z
DTEND:20201103T200000Z
END:VEVENT
END:VCALENDAR
