BEGIN:VCALENDAR
VERSION:2.0
PRODID:SchoolNow
CALSCALE:GREGORIAN
BEGIN:VEVENT
UID:c105ce14-0fe6-11eb-b081-12fcb27d1b67
DTSTAMP:20201016T193532Z
SUMMARY:Yearbook pictures at school
URL;VALUE=URI:https://www.albanyschools.org/schools/albanyhigh/calendar/247
 2426/yearbook-pictures-at-school-clone-clone
DTSTART:20201104T140000Z
DTEND:20201104T200000Z
END:VEVENT
END:VCALENDAR
