BEGIN:VCALENDAR
VERSION:2.0
PRODID:SchoolNow
CALSCALE:GREGORIAN
BEGIN:VEVENT
UID:d1d9e57c-0fe6-11eb-867f-12fcb27d1b67
DTSTAMP:20201016T193600Z
SUMMARY:Yearbook pictures at school
URL;VALUE=URI:https://www.albanyschools.org/schools/albanyhigh/calendar/247
 2427/yearbook-pictures-at-school-clone-clone-clone
DTSTART:20201105T140000Z
DTEND:20201105T200000Z
END:VEVENT
END:VCALENDAR
