BEGIN:VCALENDAR
VERSION:2.0
PRODID:SchoolNow
CALSCALE:GREGORIAN
BEGIN:VEVENT
UID:7769ce12-1ab9-11eb-94bd-12ce41be2261
DTSTAMP:20201030T141140Z
SUMMARY:Principal update with juniors
URL;VALUE=URI:https://www.albanyschools.org/schools/albanyhigh/calendar/248
 4590/principal-update-with-juniors
DTSTART:20201104T193000Z
DTEND:20201104T203000Z
END:VEVENT
END:VCALENDAR
