BEGIN:VCALENDAR
VERSION:2.0
PRODID:SchoolNow
CALSCALE:GREGORIAN
BEGIN:VEVENT
UID:a4140c3e-1ab9-11eb-9abe-12ce41be2261
DTSTAMP:20201030T171432Z
SUMMARY:Principal update with seniors
URL;VALUE=URI:https://www.albanyschools.org/schools/albanyhigh/calendar/248
 4591/principal-update-with-seniors
DTSTART:20201106T193000Z
DTEND:20201106T203000Z
END:VEVENT
END:VCALENDAR
