BEGIN:VCALENDAR
VERSION:2.0
PRODID:SchoolNow
CALSCALE:GREGORIAN
BEGIN:VEVENT
UID:bb580336-1aba-11eb-bac5-12065974d4c7
DTSTAMP:20201030T141847Z
SUMMARY:Academy principal meetings with sophomores
URL;VALUE=URI:https://www.albanyschools.org/schools/albanyhigh/calendar/248
 4592/academy-principal-meetings-with-sophomores
DTSTART:20201106T193000Z
DTEND:20201106T203000Z
END:VEVENT
END:VCALENDAR
