BEGIN:VCALENDAR
VERSION:2.0
PRODID:SchoolNow
CALSCALE:GREGORIAN
BEGIN:VEVENT
UID:10253868-1acd-11eb-af7d-1245dc60cf11
DTSTAMP:20201104T161252Z
SUMMARY:FAFSA Night: A Virtual How-to for Completing the FAFSA
URL;VALUE=URI:https://www.albanyschools.org/schools/albanyhigh/calendar/248
 4643/fafsa-night-a-virtual-how-to-for-completing-the-fafsa
DTSTART:20201105T233000Z
DTEND:20201106T003000Z
END:VEVENT
END:VCALENDAR
