BEGIN:VCALENDAR
VERSION:2.0
PRODID:SchoolNow
CALSCALE:GREGORIAN
BEGIN:VEVENT
UID:f64ee560-1ad1-11eb-b23c-0a0cee3a9a45
DTSTAMP:20201030T170424Z
SUMMARY:Academy principal meetings with freshmen
URL;VALUE=URI:https://www.albanyschools.org/schools/albanyhigh/calendar/248
 4720/academy-principal-meetings-with-freshmen
DTSTART:20201110T193000Z
DTEND:20201110T203000Z
END:VEVENT
END:VCALENDAR
