BEGIN:VCALENDAR
VERSION:2.0
PRODID:SchoolNow
CALSCALE:GREGORIAN
BEGIN:VEVENT
UID:ead75d86-1f93-11eb-86ba-0a870f330ff1
DTSTAMP:20201105T183614Z
SUMMARY:Girls' swim and dive team food drive
URL;VALUE=URI:https://www.albanyschools.org/schools/albanyhigh/calendar/249
 0173/girls-swim-and-dive-team-food-drive
DTSTART:20201115T180000Z
DTEND:20201115T200000Z
END:VEVENT
END:VCALENDAR
