BEGIN:VCALENDAR
VERSION:2.0
PRODID:SchoolNow
CALSCALE:GREGORIAN
BEGIN:VEVENT
UID:5415621a-22b5-11eb-8a56-0aeea56809b7
DTSTAMP:20201118T222504Z
SUMMARY:Virtual National Honor Society induction ceremony
URL;VALUE=URI:https://www.albanyschools.org/schools/albanyhigh/calendar/249
 3024/virtual-national-honor-society-induction-ceremony
DTSTART:20201118T223000Z
DTEND:20201118T233000Z
END:VEVENT
END:VCALENDAR
