BEGIN:VCALENDAR
VERSION:2.0
PRODID:SchoolNow
CALSCALE:GREGORIAN
BEGIN:VEVENT
UID:80234a82-24f6-11eb-a266-0a4d18ea43c5
DTSTAMP:20201112T145109Z
SUMMARY:Parent-Teacher Conference Day
URL;VALUE=URI:https://www.albanyschools.org/schools/albanyhigh/calendar/249
 5388/parent-teacher-conference-day
DTSTART;VALUE=DATE:20201125
DTEND;VALUE=DATE:20201126
END:VEVENT
END:VCALENDAR
