BEGIN:VCALENDAR
VERSION:2.0
PRODID:SchoolNow
CALSCALE:GREGORIAN
BEGIN:VEVENT
UID:94910142-34d9-11eb-b5de-0a62e6afb167
DTSTAMP:20201216T183248Z
SUMMARY:Virtual Curriculum Fair
URL;VALUE=URI:https://www.albanyschools.org/schools/albanyhigh/calendar/250
 7609/virtual-curriculum-fair
DTSTART:20201216T233000Z
DTEND:20201217T003000Z
END:VEVENT
END:VCALENDAR
