BEGIN:VCALENDAR
VERSION:2.0
PRODID:SchoolNow
CALSCALE:GREGORIAN
BEGIN:VEVENT
UID:cc4403d2-34d9-11eb-870e-1273a2f11541
DTSTAMP:20201202T201107Z
SUMMARY:2021-22 Academy Lottery (virtual)
URL;VALUE=URI:https://www.albanyschools.org/schools/albanyhigh/calendar/250
 7610/2021-22-virtual-academy-lottery
DTSTART:20201210T150000Z
DTEND:20201210T160000Z
END:VEVENT
END:VCALENDAR
