BEGIN:VCALENDAR
VERSION:2.0
PRODID:SchoolNow
CALSCALE:GREGORIAN
BEGIN:VEVENT
UID:4d725a58-34da-11eb-8b07-0a62e6afb167
DTSTAMP:20201202T200937Z
SUMMARY:SAT exam
URL;VALUE=URI:https://www.albanyschools.org/schools/albanyhigh/calendar/250
 7614/sat-exam
DTSTART:20201205T130000Z
DTEND:20201205T170000Z
END:VEVENT
END:VCALENDAR
